Workbook
Name Model_Error: Index!$A$2
Name rBS: I1_Gen_Inputs!$K$23
Name rCF: I1_Gen_Inputs!$K$24
Name rEndDate: I1_Gen_Inputs!$K$32
Name rMonthsInYear: I1_Gen_Inputs!$K$17
Name rPL: I1_Gen_Inputs!$K$22
Name rStartDate: I1_Gen_Inputs!$K$31
Name rStatementTags: I1_Gen_Inputs!$K$22:$K$25
Name rTolerance: I1_Gen_Inputs!$K$16

Sheet Index
A2: =SUM(A3:A27) -> 0 | B2: {=_xlfn.TEXTAFTER(CELL("filename",A1),"]")} -> Index
E3: This model has been developed solely for demonstration, illustration, and training purposes. It has not been fully validated for operational use and should not be relied upon for business, financial, commercial, legal, or investment decisions. Any outputs, assumptions, calculations, or results produced by this model are illustrative only and may not reflect actual outcomes.
C5: Sheets
D7: Admin Sheets
E9: =B2 -> Index
D11: Input Sheets
A13: =I1_Gen_Inputs!$A$3 -> 0 | E13: =I1_Gen_Inputs!B2 -> I1_Gen_Inputs
A14: =I2_Scenario_Inputs!$A$3 -> 0 | E14: =I2_Scenario_Inputs!B2 -> I2_Scenario_Inputs
D16: Calculation Sheets
A18: ='C1_TimelineM'!$A$3 -> 0 | E18: ='C1_TimelineM'!B2 -> C1_TimelineM
A19: ='C2_TimelineA'!$A$3 -> 0 | E19: ='C2_TimelineA'!B2 -> C2_TimelineA
A20: ='C3_CalcsM'!$A$3 -> 0 | E20: ='C3_CalcsM'!B2 -> C3_CalcsM
A21: ='C4_CalcsA'!$A$3 -> 0 | E21: ='C4_CalcsA'!B2 -> C4_CalcsA
D23: Output Sheets
A25: ='O1_Financial Statements'!$A$3 -> 0 | E25: ='O1_Financial Statements'!B2 -> O1_Financial Statements
C27: End of Sheet

Sheet Inputs >>

Sheet I1_Gen_Inputs
A2: =Model_Error -> 0 | B2: {=_xlfn.TEXTAFTER(CELL("filename",A1),"]")} -> I1_Gen_Inputs
A3: =SUM(A4:A35) -> 0
N7: CHECKS
H8: Units | O8: Valid Scenario ID | P8: Valid Date | Q8: Start Date < End Date
C9: Active Scenario
A11: =SUM(N11:R11) -> 0 | E11: Live Scenario Link | H11: # | K11: 1 | L11: rActiveScenID | O11: =IFERROR((ROUND(K11,0)<>K11)+(K11<1)+(K11>COUNTA(rScenarios)),1) -> 0
C14: Model Constants
E16: Tolerance | H16: # | K16: 0.001 | L16: rTolerance
E17: Months in Year | H17: # | K17: 12 | L17: rMonthsInYear
C20: Statement Tags
E22: P&L | H22: Text | K22: PL | L22: rPL
E23: Balance Sheet | H23: Text | K23: BS | L23: rBS
E24: Cash Flow | H24: Text | K24: CF | L24: rCF
K26: rStatementTags
C29: Timeline
A31: =SUM(N31:R31) -> 0 | E31: Start Date | H31: Date | K31: 46478 | L31: rStartDate | P31: =IFERROR(((EOMONTH(rStartDate,-1)+1)<>rStartDate)*1,1) -> 0
A32: =SUM(N32:R32) -> 0 | E32: End Date | H32: Date | K32: 50130 | L32: rEndDate | P32: =IFERROR(((EOMONTH(rEndDate,0))<>rEndDate)*1,1) -> 0 | Q32: =IFERROR((K32<K31)*1,1) -> 0
C35: End of Sheet

Sheet I2_Scenario_Inputs
A2: =Model_Error -> 0 | B2: {=_xlfn.TEXTAFTER(CELL("filename",A1),"]")} -> I2_Scenario_Inputs
A3: =SUM(A4:A59) -> 0
N7: CHECKS
H8: Units | O8: No Negative Numbers | P8: Switch is 1 or 0
C9: Scenario Inputs (Start Year Prices)
D11: Employee Inputs
A13: =SUM(N13:Q13) -> 0 | E13: Number of Employees | H13: # | K13: 3 | O13: =IFERROR(SUM((K13<0)*1),1) -> 0
A14: =SUM(N14:Q14) -> 0 | E14: Employee Wages & Taxes | H14: £'000s | K14: 250 | O14: =IFERROR(SUM((K14<0)*1),1) -> 0
A15: =SUM(N15:Q15) -> 0 | E15: Employee Holiday & Sick Days Per Year | H15: # | K15: 35 | O15: =IFERROR(SUM((K15<0)*1),1) -> 0
A16: =SUM(N16:Q16) -> 0 | E16: Expenses per Employee per Year | H16: £'000s | K16: 5 | O16: =IFERROR(SUM((K16<0)*1),1) -> 0
D18: Course Number Inputs
A20: =SUM(N20:Q20) -> 0 | E20: Course Calc Switch (1=Calculated, 0=Fixed) | H20: Switch | K20: 1 | P20: =IFERROR(SUM((K20<>0)*(K20<>1)),1) -> 0
E22: Inputs Used When Course Calculation Switch set to 1
A23: =SUM(N23:Q23) -> 0 | E23: Max # of Courses per Employee per Day | H23: # | K23: 2 | O23: =IFERROR(SUM((K23<0)*1),1) -> 0
A24: =SUM(N24:Q24) -> 0 | E24: Employee Utilisation | H24: % | K24: 0.75 | O24: =IFERROR(SUM((K24<0)*1),1) -> 0
E26: Input Used When Course Calculation Switch set to 0
A27: =SUM(N27:Q27) -> 0 | E27: # Courses (Fixed) | H27: # | K27: 1000 | O27: =IFERROR(SUM((K27<0)*1),1) -> 0
D29: Course Financial Inputs
A31: =SUM(N31:Q31) -> 0 | E31: Revenue per Course | H31: £'000s | K31: 2.5 | O31: =IFERROR(SUM((K31<0)*1),1) -> 0
A32: =SUM(N32:Q32) -> 0 | E32: Venue Costs per Course | H32: £'000s | K32: 1 | O32: =IFERROR(SUM((K32<0)*1),1) -> 0
D34: Merchandise
A36: =SUM(N36:Q36) -> 0 | E36: Merchandise Revenue per Year | H36: £'000s | K36: 30 | O36: =IFERROR(SUM((K36<0)*1),1) -> 0
D38: Marketing Inputs
A40: =SUM(N40:Q40) -> 0 | E40: Marketing Cost per Year | H40: £'000s | K40: 50 | O40: =IFERROR(SUM((K40<0)*1),1) -> 0
D42: Laptop Inputs
A44: =SUM(N44:Q44) -> 0 | E44: Cost per Laptop | H44: £'000s | K44: 10 | O44: =IFERROR(SUM((K44<0)*1),1) -> 0
A45: =SUM(N45:Q45) -> 0 | E45: Laptop Useful Life (Years) | H45: # | K45: 3 | O45: =IFERROR(SUM((K45<0)*1),1) -> 0
D47: Venue Building Inputs
A49: =SUM(N49:Q49) -> 0 | E49: Building Cost | H49: £'000s | K49: 500 | O49: =IFERROR(SUM((K49<0)*1),1) -> 0
A50: =SUM(N50:Q50) -> 0 | E50: Venue Building Useful Life (Years) | H50: # | K50: 10 | O50: =IFERROR(SUM((K50<0)*1),1) -> 0
D52: Inflation Inputs
A54: =SUM(N54:Q54) -> 0 | E54: Employee Salaries | H54: % | K54: 0.03 | O54: =IFERROR(SUM((K54<0)*1),1) -> 0
A55: =SUM(N55:Q55) -> 0 | E55: CPI | H55: % | K55: 0.02 | O55: =IFERROR(SUM((K55<0)*1),1) -> 0
C59: End of Sheet

Sheet Calculations >>

Sheet C1_TimelineM
A2: =Model_Error -> 0 | B2: {=_xlfn.TEXTAFTER(CELL("filename",A1),"]")} -> C1_TimelineM | M2: =M11 -> 1 | N2: =N11 -> 2 | O2: =O11 -> 3 | P2: =P11 -> 4 | Q2: =Q11 -> 5 | R2: =R11 -> 6 | S2: =S11 -> 7 | T2: =T11 -> 8 | ... EB2: =EB11 -> 120
A3: =SUM(A4:A30) -> 0 | M3: =M16 -> 4_2027 | N3: =N16 -> 5_2027 | O3: =O16 -> 6_2027 | P3: =P16 -> 7_2027 | Q3: =Q16 -> 8_2027 | R3: =R16 -> 9_2027 | S3: =S16 -> 10_2027 | T3: =T16 -> 11_2027 | ... EB3: =EB16 -> 3_2037
M4: =M12 -> 46478 | N4: =N12 -> 46508 | O4: =O12 -> 46539 | P4: =P12 -> 46569 | Q4: =Q12 -> 46600 | R4: =R12 -> 46631 | S4: =S12 -> 46661 | T4: =T12 -> 46692 | ... EB4: =EB12 -> 50100
M5: =M13 -> 46507 | N5: =N13 -> 46538 | O5: =O13 -> 46568 | P5: =P13 -> 46599 | Q5: =Q13 -> 46630 | R5: =R13 -> 46660 | S5: =S13 -> 46691 | T5: =T13 -> 46721 | ... EB5: =EB13 -> 50130
M6: =M14 -> 2027 | N6: =N14 -> 2027 | O6: =O14 -> 2027 | P6: =P14 -> 2027 | Q6: =Q14 -> 2027 | R6: =R14 -> 2027 | S6: =S14 -> 2027 | T6: =T14 -> 2027 | ... EB6: =EB14 -> 2037
H8: Units
C9: Monthly Timeline
D11: Counter | H11: # | M11: =L11+1 -> 1 | N11: =M11+1 -> 2 | O11: =N11+1 -> 3 | P11: =O11+1 -> 4 | Q11: =P11+1 -> 5 | R11: =Q11+1 -> 6 | S11: =R11+1 -> 7 | T11: =S11+1 -> 8 | ... EB11: =EA11+1 -> 120
D12: Period Start | H12: Date | M12: =EDATE(rStartDate,M$11-1) -> 46478 | N12: =EDATE(rStartDate,N$11-1) -> 46508 | O12: =EDATE(rStartDate,O$11-1) -> 46539 | P12: =EDATE(rStartDate,P$11-1) -> 46569 | Q12: =EDATE(rStartDate,Q$11-1) -> 46600 | R12: =EDATE(rStartDate,R$11-1) -> 46631 | S12: =EDATE(rStartDate,S$11-1) -> 46661 | T12: =EDATE(rStartDate,T$11-1) -> 46692 | ... EB12: =EDATE(rStartDate,EB$11-1) -> 50100
D13: Period End | H13: Date | M13: =EOMONTH(M12,0) -> 46507 | N13: =EOMONTH(N12,0) -> 46538 | O13: =EOMONTH(O12,0) -> 46568 | P13: =EOMONTH(P12,0) -> 46599 | Q13: =EOMONTH(Q12,0) -> 46630 | R13: =EOMONTH(R12,0) -> 46660 | S13: =EOMONTH(S12,0) -> 46691 | T13: =EOMONTH(T12,0) -> 46721 | ... EB13: =EOMONTH(EB12,0) -> 50130
D14: Year | H14: # | M14: =YEAR(M12) -> 2027 | N14: =YEAR(N12) -> 2027 | O14: =YEAR(O12) -> 2027 | P14: =YEAR(P12) -> 2027 | Q14: =YEAR(Q12) -> 2027 | R14: =YEAR(R12) -> 2027 | S14: =YEAR(S12) -> 2027 | T14: =YEAR(T12) -> 2027 | ... EB14: =YEAR(EB12) -> 2037
D16: Period Name | H16: # | M16: =MONTH(M12)&"_"&M14 -> 4_2027 | N16: =MONTH(N12)&"_"&N14 -> 5_2027 | O16: =MONTH(O12)&"_"&O14 -> 6_2027 | P16: =MONTH(P12)&"_"&P14 -> 7_2027 | Q16: =MONTH(Q12)&"_"&Q14 -> 8_2027 | R16: =MONTH(R12)&"_"&R14 -> 9_2027 | S16: =MONTH(S12)&"_"&S14 -> 10_2027 | T16: =MONTH(T12)&"_"&T14 -> 11_2027 | ... EB16: =MONTH(EB12)&"_"&EB14 -> 3_2037
C19: Monthly Inflation
D21: ='C2_TimelineA'!D27 -> Employee Salaries | H21: # | M21: =_xlfn.XLOOKUP(M$14,'C2_TimelineA'!$M$3:$X$3,'C2_TimelineA'!$M27:$X27) -> 1 | N21: =_xlfn.XLOOKUP(N$14,'C2_TimelineA'!$M$3:$X$3,'C2_TimelineA'!$M27:$X27) -> 1 | O21: =_xlfn.XLOOKUP(O$14,'C2_TimelineA'!$M$3:$X$3,'C2_TimelineA'!$M27:$X27) -> 1 | P21: =_xlfn.XLOOKUP(P$14,'C2_TimelineA'!$M$3:$X$3,'C2_TimelineA'!$M27:$X27) -> 1 | Q21: =_xlfn.XLOOKUP(Q$14,'C2_TimelineA'!$M$3:$X$3,'C2_TimelineA'!$M27:$X27) -> 1 | R21: =_xlfn.XLOOKUP(R$14,'C2_TimelineA'!$M$3:$X$3,'C2_TimelineA'!$M27:$X27) -> 1 | S21: =_xlfn.XLOOKUP(S$14,'C2_TimelineA'!$M$3:$X$3,'C2_TimelineA'!$M27:$X27) -> 1 | T21: =_xlfn.XLOOKUP(T$14,'C2_TimelineA'!$M$3:$X$3,'C2_TimelineA'!$M27:$X27) -> 1 | ... EB21: =_xlfn.XLOOKUP(EB$14,'C2_TimelineA'!$M$3:$X$3,'C2_TimelineA'!$M27:$X27) -> 1.3439164
D22: ='C2_TimelineA'!D28 -> CPI | H22: # | M22: =_xlfn.XLOOKUP(M$14,'C2_TimelineA'!$M$3:$X$3,'C2_TimelineA'!$M28:$X28) -> 1 | N22: =_xlfn.XLOOKUP(N$14,'C2_TimelineA'!$M$3:$X$3,'C2_TimelineA'!$M28:$X28) -> 1 | O22: =_xlfn.XLOOKUP(O$14,'C2_TimelineA'!$M$3:$X$3,'C2_TimelineA'!$M28:$X28) -> 1 | P22: =_xlfn.XLOOKUP(P$14,'C2_TimelineA'!$M$3:$X$3,'C2_TimelineA'!$M28:$X28) -> 1 | Q22: =_xlfn.XLOOKUP(Q$14,'C2_TimelineA'!$M$3:$X$3,'C2_TimelineA'!$M28:$X28) -> 1 | R22: =_xlfn.XLOOKUP(R$14,'C2_TimelineA'!$M$3:$X$3,'C2_TimelineA'!$M28:$X28) -> 1 | S22: =_xlfn.XLOOKUP(S$14,'C2_TimelineA'!$M$3:$X$3,'C2_TimelineA'!$M28:$X28) -> 1 | T22: =_xlfn.XLOOKUP(T$14,'C2_TimelineA'!$M$3:$X$3,'C2_TimelineA'!$M28:$X28) -> 1 | ... EB22: =_xlfn.XLOOKUP(EB$14,'C2_TimelineA'!$M$3:$X$3,'C2_TimelineA'!$M28:$X28) -> 1.2189944
C25: Check
A27: =IFERROR((ABS(MAX(M5:EC5)-rEndDate)>rTolerance)*1,1) -> 0 | D27: Timeline Length
B30: End of Sheet

Sheet C2_TimelineA
A2: =Model_Error -> 0 | B2: {=_xlfn.TEXTAFTER(CELL("filename",A1),"]")} -> C2_TimelineA | M2: =M11 -> 1 | N2: =N11 -> 2 | O2: =O11 -> 3 | P2: =P11 -> 4 | Q2: =Q11 -> 5 | R2: =R11 -> 6 | S2: =S11 -> 7 | T2: =T11 -> 8 | ... W2: =W11 -> 11
A3: =SUM(A4:A36) -> 0 | M3: =M12 -> 2027 | N3: =N12 -> 2028 | O3: =O12 -> 2029 | P3: =P12 -> 2030 | Q3: =Q12 -> 2031 | R3: =R12 -> 2032 | S3: =S12 -> 2033 | T3: =T12 -> 2034 | ... W3: =W12 -> 2037
M4: =M17 -> 46478 | N4: =N17 -> 46753 | O4: =O17 -> 47119 | P4: =P17 -> 47484 | Q4: =Q17 -> 47849 | R4: =R17 -> 48214 | S4: =S17 -> 48580 | T4: =T17 -> 48945 | ... W4: =W17 -> 50041
M5: =M18 -> 46752 | N5: =N18 -> 47118 | O5: =O18 -> 47483 | P5: =P18 -> 47848 | Q5: =Q18 -> 48213 | R5: =R18 -> 48579 | S5: =S18 -> 48944 | T5: =T18 -> 49309 | ... W5: =W18 -> 50130
M6: =M20 -> 0.75342466 | N6: =N20 -> 1 | O6: =O20 -> 1 | P6: =P20 -> 1 | Q6: =Q20 -> 1 | R6: =R20 -> 1 | S6: =S20 -> 1 | T6: =T20 -> 1 | ... W6: =W20 -> 0.24657534
M7: =M19 -> 275 | N7: =N19 -> 366 | O7: =O19 -> 365 | P7: =P19 -> 365 | Q7: =Q19 -> 365 | R7: =R19 -> 366 | S7: =S19 -> 365 | T7: =T19 -> 365 | ... W7: =W19 -> 90
H8: Units
C9: Annual Timeline
D11: Counter | H11: # | M11: =L11+1 -> 1 | N11: =M11+1 -> 2 | O11: =N11+1 -> 3 | P11: =O11+1 -> 4 | Q11: =P11+1 -> 5 | R11: =Q11+1 -> 6 | S11: =R11+1 -> 7 | T11: =S11+1 -> 8 | ... W11: =V11+1 -> 11
D12: Year | H12: # | M12: =YEAR(rStartDate)+M11-1 -> 2027 | N12: =YEAR(rStartDate)+N11-1 -> 2028 | O12: =YEAR(rStartDate)+O11-1 -> 2029 | P12: =YEAR(rStartDate)+P11-1 -> 2030 | Q12: =YEAR(rStartDate)+Q11-1 -> 2031 | R12: =YEAR(rStartDate)+R11-1 -> 2032 | S12: =YEAR(rStartDate)+S11-1 -> 2033 | T12: =YEAR(rStartDate)+T11-1 -> 2034 | ... W12: =YEAR(rStartDate)+W11-1 -> 2037
D13: Full Year Start | H13: Date | M13: =DATE(M12,1,1) -> 46388 | N13: =DATE(N12,1,1) -> 46753 | O13: =DATE(O12,1,1) -> 47119 | P13: =DATE(P12,1,1) -> 47484 | Q13: =DATE(Q12,1,1) -> 47849 | R13: =DATE(R12,1,1) -> 48214 | S13: =DATE(S12,1,1) -> 48580 | T13: =DATE(T12,1,1) -> 48945 | ... W13: =DATE(W12,1,1) -> 50041
D14: Full Year End | H14: Date | M14: =DATE(M12+1,1,1)-1 -> 46752 | N14: =DATE(N12+1,1,1)-1 -> 47118 | O14: =DATE(O12+1,1,1)-1 -> 47483 | P14: =DATE(P12+1,1,1)-1 -> 47848 | Q14: =DATE(Q12+1,1,1)-1 -> 48213 | R14: =DATE(R12+1,1,1)-1 -> 48579 | S14: =DATE(S12+1,1,1)-1 -> 48944 | T14: =DATE(T12+1,1,1)-1 -> 49309 | ... W14: =DATE(W12+1,1,1)-1 -> 50405
D15: Days in Full Year | H15: # | M15: =M14-M13+1 -> 365 | N15: =N14-N13+1 -> 366 | O15: =O14-O13+1 -> 365 | P15: =P14-P13+1 -> 365 | Q15: =Q14-Q13+1 -> 365 | R15: =R14-R13+1 -> 366 | S15: =S14-S13+1 -> 365 | T15: =T14-T13+1 -> 365 | ... W15: =W14-W13+1 -> 365
D17: Period Start | H17: Date | M17: =MAX(rStartDate,M$13) -> 46478 | N17: =MAX(rStartDate,N$13) -> 46753 | O17: =MAX(rStartDate,O$13) -> 47119 | P17: =MAX(rStartDate,P$13) -> 47484 | Q17: =MAX(rStartDate,Q$13) -> 47849 | R17: =MAX(rStartDate,R$13) -> 48214 | S17: =MAX(rStartDate,S$13) -> 48580 | T17: =MAX(rStartDate,T$13) -> 48945 | ... W17: =MAX(rStartDate,W$13) -> 50041
D18: Period End | H18: Date | M18: =MIN(M$14,rEndDate) -> 46752 | N18: =MIN(N$14,rEndDate) -> 47118 | O18: =MIN(O$14,rEndDate) -> 47483 | P18: =MIN(P$14,rEndDate) -> 47848 | Q18: =MIN(Q$14,rEndDate) -> 48213 | R18: =MIN(R$14,rEndDate) -> 48579 | S18: =MIN(S$14,rEndDate) -> 48944 | T18: =MIN(T$14,rEndDate) -> 49309 | ... W18: =MIN(W$14,rEndDate) -> 50130
D19: Days in Period | H19: # | M19: =M18-M17+1 -> 275 | N19: =N18-N17+1 -> 366 | O19: =O18-O17+1 -> 365 | P19: =P18-P17+1 -> 365 | Q19: =Q18-Q17+1 -> 365 | R19: =R18-R17+1 -> 366 | S19: =S18-S17+1 -> 365 | T19: =T18-T17+1 -> 365 | ... W19: =W18-W17+1 -> 90
D20: % of Full Year | H20: % | M20: =M19/M15 -> 0.75342466 | N20: =N19/N15 -> 1 | O20: =O19/O15 -> 1 | P20: =P19/P15 -> 1 | Q20: =Q19/Q15 -> 1 | R20: =R19/R15 -> 1 | S20: =S19/S15 -> 1 | T20: =T19/T15 -> 1 | ... W20: =W19/W15 -> 0.24657534
D22: Working Days in Period | H22: # | M22: =NETWORKDAYS(M17,M18) -> 197 | N22: =NETWORKDAYS(N17,N18) -> 260 | O22: =NETWORKDAYS(O17,O18) -> 261 | P22: =NETWORKDAYS(P17,P18) -> 261 | Q22: =NETWORKDAYS(Q17,Q18) -> 261 | R22: =NETWORKDAYS(R17,R18) -> 262 | S22: =NETWORKDAYS(S17,S18) -> 260 | T22: =NETWORKDAYS(T17,T18) -> 260 | ... W22: =NETWORKDAYS(W17,W18) -> 64
C25: Annual Inflation
D27: Employee Salaries | H27: # | J27: =I2_Scenario_Inputs!K54 -> 0.03 | M27: =(1+$J27)^(M$2-1) -> 1 | N27: =(1+$J27)^(N$2-1) -> 1.03 | O27: =(1+$J27)^(O$2-1) -> 1.0609 | P27: =(1+$J27)^(P$2-1) -> 1.092727 | Q27: =(1+$J27)^(Q$2-1) -> 1.1255088 | R27: =(1+$J27)^(R$2-1) -> 1.1592741 | S27: =(1+$J27)^(S$2-1) -> 1.1940523 | T27: =(1+$J27)^(T$2-1) -> 1.2298739 | ... W27: =(1+$J27)^(W$2-1) -> 1.3439164
D28: CPI | H28: # | J28: =I2_Scenario_Inputs!K55 -> 0.02 | M28: =(1+$J28)^(M$2-1) -> 1 | N28: =(1+$J28)^(N$2-1) -> 1.02 | O28: =(1+$J28)^(O$2-1) -> 1.0404 | P28: =(1+$J28)^(P$2-1) -> 1.061208 | Q28: =(1+$J28)^(Q$2-1) -> 1.0824322 | R28: =(1+$J28)^(R$2-1) -> 1.1040808 | S28: =(1+$J28)^(S$2-1) -> 1.1261624 | T28: =(1+$J28)^(T$2-1) -> 1.1486857 | ... W28: =(1+$J28)^(W$2-1) -> 1.2189944
C31: Check
A33: =IFERROR((ABS(MAX(M5:X5)-rEndDate)>rTolerance)*1,1) -> 0 | D33: Timeline Length
B36: End of Sheet

Sheet C3_CalcsM
A2: =Model_Error -> 0 | B2: {=_xlfn.TEXTAFTER(CELL("filename",A1),"]")} -> C3_CalcsM | M2: ='C1_TimelineM'!M2 -> 1 | N2: ='C1_TimelineM'!N2 -> 2 | O2: ='C1_TimelineM'!O2 -> 3 | P2: ='C1_TimelineM'!P2 -> 4 | Q2: ='C1_TimelineM'!Q2 -> 5 | R2: ='C1_TimelineM'!R2 -> 6 | S2: ='C1_TimelineM'!S2 -> 7 | T2: ='C1_TimelineM'!T2 -> 8 | ... EB2: ='C1_TimelineM'!EB2 -> 120
A3: =SUM(A4:A51) -> 0 | M3: ='C1_TimelineM'!M3 -> 4_2027 | N3: ='C1_TimelineM'!N3 -> 5_2027 | O3: ='C1_TimelineM'!O3 -> 6_2027 | P3: ='C1_TimelineM'!P3 -> 7_2027 | Q3: ='C1_TimelineM'!Q3 -> 8_2027 | R3: ='C1_TimelineM'!R3 -> 9_2027 | S3: ='C1_TimelineM'!S3 -> 10_2027 | T3: ='C1_TimelineM'!T3 -> 11_2027 | ... EB3: ='C1_TimelineM'!EB3 -> 3_2037
M4: ='C1_TimelineM'!M4 -> 46478 | N4: ='C1_TimelineM'!N4 -> 46508 | O4: ='C1_TimelineM'!O4 -> 46539 | P4: ='C1_TimelineM'!P4 -> 46569 | Q4: ='C1_TimelineM'!Q4 -> 46600 | R4: ='C1_TimelineM'!R4 -> 46631 | S4: ='C1_TimelineM'!S4 -> 46661 | T4: ='C1_TimelineM'!T4 -> 46692 | ... EB4: ='C1_TimelineM'!EB4 -> 50100
M5: ='C1_TimelineM'!M5 -> 46507 | N5: ='C1_TimelineM'!N5 -> 46538 | O5: ='C1_TimelineM'!O5 -> 46568 | P5: ='C1_TimelineM'!P5 -> 46599 | Q5: ='C1_TimelineM'!Q5 -> 46630 | R5: ='C1_TimelineM'!R5 -> 46660 | S5: ='C1_TimelineM'!S5 -> 46691 | T5: ='C1_TimelineM'!T5 -> 46721 | ... EB5: ='C1_TimelineM'!EB5 -> 50130
M6: ='C1_TimelineM'!M6 -> 2027 | N6: ='C1_TimelineM'!N6 -> 2027 | O6: ='C1_TimelineM'!O6 -> 2027 | P6: ='C1_TimelineM'!P6 -> 2027 | Q6: ='C1_TimelineM'!Q6 -> 2027 | R6: ='C1_TimelineM'!R6 -> 2027 | S6: ='C1_TimelineM'!S6 -> 2027 | T6: ='C1_TimelineM'!T6 -> 2027 | ... EB6: ='C1_TimelineM'!EB6 -> 2037
H8: Units
C9: Venue Building
D11: Venue Building UEL (Years) | H11: # | J11: =I2_Scenario_Inputs!$K$50 -> 10
D13: Venue UEL (Months) | H13: # | J13: =J11*rMonthsInYear -> 120
D15: Venue Building Cost | H15: £'000s | J15: =I2_Scenario_Inputs!$K$49 -> 500
D17: Opening Balance | H17: £'000s | M17: =L22 -> 0 | N17: =M22 -> 495.83333 | O17: =N22 -> 491.66667 | P17: =O22 -> 487.5 | Q17: =P22 -> 483.33333 | R17: =Q22 -> 479.16667 | S17: =R22 -> 475 | T17: =S22 -> 470.83333 | ... EB17: =EA22 -> 4.1666667
D19: Additions | H19: £'000s | M19: =IF(M$2=1,$J$15,0) -> 500 | N19: =IF(N$2=1,$J$15,0) -> 0 | O19: =IF(O$2=1,$J$15,0) -> 0 | P19: =IF(P$2=1,$J$15,0) -> 0 | Q19: =IF(Q$2=1,$J$15,0) -> 0 | R19: =IF(R$2=1,$J$15,0) -> 0 | S19: =IF(S$2=1,$J$15,0) -> 0 | T19: =IF(T$2=1,$J$15,0) -> 0 | ... EB19: =IF(EB$2=1,$J$15,0) -> 0
D20: Depreciation | H20: £'000s | M20: =0-SUM(OFFSET(M19,,,1,0-MIN(M$2,$J$13)))/$J$13 -> -4.1666667 | N20: =0-SUM(OFFSET(N19,,,1,0-MIN(N$2,$J$13)))/$J$13 -> -4.1666667 | O20: =0-SUM(OFFSET(O19,,,1,0-MIN(O$2,$J$13)))/$J$13 -> -4.1666667 | P20: =0-SUM(OFFSET(P19,,,1,0-MIN(P$2,$J$13)))/$J$13 -> -4.1666667 | Q20: =0-SUM(OFFSET(Q19,,,1,0-MIN(Q$2,$J$13)))/$J$13 -> -4.1666667 | R20: =0-SUM(OFFSET(R19,,,1,0-MIN(R$2,$J$13)))/$J$13 -> -4.1666667 | S20: =0-SUM(OFFSET(S19,,,1,0-MIN(S$2,$J$13)))/$J$13 -> -4.1666667 | T20: =0-SUM(OFFSET(T19,,,1,0-MIN(T$2,$J$13)))/$J$13 -> -4.1666667 | ... EB20: =0-SUM(OFFSET(EB19,,,1,0-MIN(EB$2,$J$13)))/$J$13 -> -4.1666667
D22: Closing Balance | H22: £'000s | M22: =SUM(M17:M21) -> 495.83333 | N22: =SUM(N17:N21) -> 491.66667 | O22: =SUM(O17:O21) -> 487.5 | P22: =SUM(P17:P21) -> 483.33333 | Q22: =SUM(Q17:Q21) -> 479.16667 | R22: =SUM(R17:R21) -> 475 | S22: =SUM(S17:S21) -> 470.83333 | T22: =SUM(T17:T21) -> 466.66667 | ... EB22: =SUM(EB17:EB21) -> -8.6508578e-13
A24: =SUM(M24:EC24) -> 0 | D24: Check Closing Balance not Negative | H24: Check | M24: =IFERROR((M22<-rTolerance)*1,1) -> 0 | N24: =IFERROR((N22<-rTolerance)*1,1) -> 0 | O24: =IFERROR((O22<-rTolerance)*1,1) -> 0 | P24: =IFERROR((P22<-rTolerance)*1,1) -> 0 | Q24: =IFERROR((Q22<-rTolerance)*1,1) -> 0 | R24: =IFERROR((R22<-rTolerance)*1,1) -> 0 | S24: =IFERROR((S22<-rTolerance)*1,1) -> 0 | T24: =IFERROR((T22<-rTolerance)*1,1) -> 0 | ... EB24: =IFERROR((EB22<-rTolerance)*1,1) -> 0
C27: Laptops
D29: Laptop UEL (Years) | H29: # | J29: =I2_Scenario_Inputs!K45 -> 3
D31: Laptop UEL (Months) | H31: # | J31: =J29*rMonthsInYear -> 36
D33: Laptop Purchase Flag | H33: Flag | M33: =(MOD(M2,$J31)=1)*1 -> 1 | N33: =(MOD(N2,$J31)=1)*1 -> 0 | O33: =(MOD(O2,$J31)=1)*1 -> 0 | P33: =(MOD(P2,$J31)=1)*1 -> 0 | Q33: =(MOD(Q2,$J31)=1)*1 -> 0 | R33: =(MOD(R2,$J31)=1)*1 -> 0 | S33: =(MOD(S2,$J31)=1)*1 -> 0 | T33: =(MOD(T2,$J31)=1)*1 -> 0 | ... EB33: =(MOD(EB2,$J31)=1)*1 -> 0
D35: CPI Inflation Rate | H35: % | M35: ='C1_TimelineM'!M$22 -> 1 | N35: ='C1_TimelineM'!N$22 -> 1 | O35: ='C1_TimelineM'!O$22 -> 1 | P35: ='C1_TimelineM'!P$22 -> 1 | Q35: ='C1_TimelineM'!Q$22 -> 1 | R35: ='C1_TimelineM'!R$22 -> 1 | S35: ='C1_TimelineM'!S$22 -> 1 | T35: ='C1_TimelineM'!T$22 -> 1 | ... EB35: ='C1_TimelineM'!EB$22 -> 1.2189944
D37: # of Employees | H37: # | J37: =I2_Scenario_Inputs!$K$13 -> 3
D39: Cost per Laptop | H39: # | J39: =I2_Scenario_Inputs!$K$44 -> 10
D41: Opening Balance | H41: £'000s | M41: =L46 -> 0 | N41: =M46 -> 29.166667 | O41: =N46 -> 28.333333 | P41: =O46 -> 27.5 | Q41: =P46 -> 26.666667 | R41: =Q46 -> 25.833333 | S41: =R46 -> 25 | T41: =S46 -> 24.166667 | ... EB41: =EA46 -> 24.897762
D43: Additions | H43: £'000s | M43: =M33*M35*$J37*$J39 -> 30 | N43: =N33*N35*$J37*$J39 -> 0 | O43: =O33*O35*$J37*$J39 -> 0 | P43: =P33*P35*$J37*$J39 -> 0 | Q43: =Q33*Q35*$J37*$J39 -> 0 | R43: =R33*R35*$J37*$J39 -> 0 | S43: =S33*S35*$J37*$J39 -> 0 | T43: =T33*T35*$J37*$J39 -> 0 | ... EB43: =EB33*EB35*$J37*$J39 -> 0
D44: Depreciation | H44: £'000s | M44: =0-SUM(OFFSET(M43,,,1,0-MIN(M$2,$J$31)))/$J$31 -> -0.83333333 | N44: =0-SUM(OFFSET(N43,,,1,0-MIN(N$2,$J$31)))/$J$31 -> -0.83333333 | O44: =0-SUM(OFFSET(O43,,,1,0-MIN(O$2,$J$31)))/$J$31 -> -0.83333333 | P44: =0-SUM(OFFSET(P43,,,1,0-MIN(P$2,$J$31)))/$J$31 -> -0.83333333 | Q44: =0-SUM(OFFSET(Q43,,,1,0-MIN(Q$2,$J$31)))/$J$31 -> -0.83333333 | R44: =0-SUM(OFFSET(R43,,,1,0-MIN(R$2,$J$31)))/$J$31 -> -0.83333333 | S44: =0-SUM(OFFSET(S43,,,1,0-MIN(S$2,$J$31)))/$J$31 -> -0.83333333 | T44: =0-SUM(OFFSET(T43,,,1,0-MIN(T$2,$J$31)))/$J$31 -> -0.83333333 | ... EB44: =0-SUM(OFFSET(EB43,,,1,0-MIN(EB$2,$J$31)))/$J$31 -> -0.99591047
D46: Closing Balance | H46: £'000s | M46: =SUM(M41:M45) -> 29.166667 | N46: =SUM(N41:N45) -> 28.333333 | O46: =SUM(O41:O45) -> 27.5 | P46: =SUM(P41:P45) -> 26.666667 | Q46: =SUM(Q41:Q45) -> 25.833333 | R46: =SUM(R41:R45) -> 25 | S46: =SUM(S41:S45) -> 24.166667 | T46: =SUM(T41:T45) -> 23.333333 | ... EB46: =SUM(EB41:EB45) -> 23.901851
A48: =SUM(M48:EC48) -> 0 | D48: Check Closing Balance not Negative | H48: Check | M48: =IFERROR((M46<-rTolerance)*1,1) -> 0 | N48: =IFERROR((N46<-rTolerance)*1,1) -> 0 | O48: =IFERROR((O46<-rTolerance)*1,1) -> 0 | P48: =IFERROR((P46<-rTolerance)*1,1) -> 0 | Q48: =IFERROR((Q46<-rTolerance)*1,1) -> 0 | R48: =IFERROR((R46<-rTolerance)*1,1) -> 0 | S48: =IFERROR((S46<-rTolerance)*1,1) -> 0 | T48: =IFERROR((T46<-rTolerance)*1,1) -> 0 | ... EB48: =IFERROR((EB46<-rTolerance)*1,1) -> 0
B51: End of Sheet

Sheet C4_CalcsA
A2: =Model_Error -> 0 | B2: {=_xlfn.TEXTAFTER(CELL("filename",A1),"]")} -> C4_CalcsA | M2: ='C2_TimelineA'!M2 -> 1 | N2: ='C2_TimelineA'!N2 -> 2 | O2: ='C2_TimelineA'!O2 -> 3 | P2: ='C2_TimelineA'!P2 -> 4 | Q2: ='C2_TimelineA'!Q2 -> 5 | R2: ='C2_TimelineA'!R2 -> 6 | S2: ='C2_TimelineA'!S2 -> 7 | T2: ='C2_TimelineA'!T2 -> 8 | ... W2: ='C2_TimelineA'!W2 -> 11
A3: =SUM(A4:A120) -> 0 | M3: ='C2_TimelineA'!M3 -> 2027 | N3: ='C2_TimelineA'!N3 -> 2028 | O3: ='C2_TimelineA'!O3 -> 2029 | P3: ='C2_TimelineA'!P3 -> 2030 | Q3: ='C2_TimelineA'!Q3 -> 2031 | R3: ='C2_TimelineA'!R3 -> 2032 | S3: ='C2_TimelineA'!S3 -> 2033 | T3: ='C2_TimelineA'!T3 -> 2034 | ... W3: ='C2_TimelineA'!W3 -> 2037
M4: ='C2_TimelineA'!M4 -> 46478 | N4: ='C2_TimelineA'!N4 -> 46753 | O4: ='C2_TimelineA'!O4 -> 47119 | P4: ='C2_TimelineA'!P4 -> 47484 | Q4: ='C2_TimelineA'!Q4 -> 47849 | R4: ='C2_TimelineA'!R4 -> 48214 | S4: ='C2_TimelineA'!S4 -> 48580 | T4: ='C2_TimelineA'!T4 -> 48945 | ... W4: ='C2_TimelineA'!W4 -> 50041
M5: ='C2_TimelineA'!M5 -> 46752 | N5: ='C2_TimelineA'!N5 -> 47118 | O5: ='C2_TimelineA'!O5 -> 47483 | P5: ='C2_TimelineA'!P5 -> 47848 | Q5: ='C2_TimelineA'!Q5 -> 48213 | R5: ='C2_TimelineA'!R5 -> 48579 | S5: ='C2_TimelineA'!S5 -> 48944 | T5: ='C2_TimelineA'!T5 -> 49309 | ... W5: ='C2_TimelineA'!W5 -> 50130
M6: ='C2_TimelineA'!M6 -> 0.75342466 | N6: ='C2_TimelineA'!N6 -> 1 | O6: ='C2_TimelineA'!O6 -> 1 | P6: ='C2_TimelineA'!P6 -> 1 | Q6: ='C2_TimelineA'!Q6 -> 1 | R6: ='C2_TimelineA'!R6 -> 1 | S6: ='C2_TimelineA'!S6 -> 1 | T6: ='C2_TimelineA'!T6 -> 1 | ... W6: ='C2_TimelineA'!W6 -> 0.24657534
M7: ='C2_TimelineA'!M7 -> 275 | N7: ='C2_TimelineA'!N7 -> 366 | O7: ='C2_TimelineA'!O7 -> 365 | P7: ='C2_TimelineA'!P7 -> 365 | Q7: ='C2_TimelineA'!Q7 -> 365 | R7: ='C2_TimelineA'!R7 -> 366 | S7: ='C2_TimelineA'!S7 -> 365 | T7: ='C2_TimelineA'!T7 -> 365 | ... W7: ='C2_TimelineA'!W7 -> 90
H8: Units
C9: Courses Run per Year (Calculated)
D11: Max # of Courses per Employee per Day | H11: # | J11: =I2_Scenario_Inputs!K23 -> 2
D12: Employee Utilisation | H12: % | J12: =I2_Scenario_Inputs!K24 -> 0.75
D14: Average # of Courses per Day per Employee | H14: # | J14: =J11*J12 -> 1.5
D16: Number of Working Days in Period per Employee | H16: # | M16: ='C2_TimelineA'!M22 -> 197 | N16: ='C2_TimelineA'!N22 -> 260 | O16: ='C2_TimelineA'!O22 -> 261 | P16: ='C2_TimelineA'!P22 -> 261 | Q16: ='C2_TimelineA'!Q22 -> 261 | R16: ='C2_TimelineA'!R22 -> 262 | S16: ='C2_TimelineA'!S22 -> 260 | T16: ='C2_TimelineA'!T22 -> 260 | ... W16: ='C2_TimelineA'!W22 -> 64
D17: Number of Holiday & Sick Days in Period per Employee | H17: # | J17: =I2_Scenario_Inputs!K15 -> 35 | M17: =0-$J17*M$6 -> -26.369863 | N17: =0-$J17*N$6 -> -35 | O17: =0-$J17*O$6 -> -35 | P17: =0-$J17*P$6 -> -35 | Q17: =0-$J17*Q$6 -> -35 | R17: =0-$J17*R$6 -> -35 | S17: =0-$J17*S$6 -> -35 | T17: =0-$J17*T$6 -> -35 | ... W17: =0-$J17*W$6 -> -8.630137
D19: Number of Course Days per Year per Employee | H19: # | M19: =SUM(M16:M18) -> 170.63014 | N19: =SUM(N16:N18) -> 225 | O19: =SUM(O16:O18) -> 226 | P19: =SUM(P16:P18) -> 226 | Q19: =SUM(Q16:Q18) -> 226 | R19: =SUM(R16:R18) -> 227 | S19: =SUM(S16:S18) -> 225 | T19: =SUM(T16:T18) -> 225 | ... W19: =SUM(W16:W18) -> 55.369863
D21: # of Employees | H21: # | J21: =I2_Scenario_Inputs!$K$13 -> 3
D23: Number of Courses Run per Year | H23: # | M23: =ROUND(M19*$J$21*$J$14,0) -> 768 | N23: =ROUND(N19*$J$21*$J$14,0) -> 1013 | O23: =ROUND(O19*$J$21*$J$14,0) -> 1017 | P23: =ROUND(P19*$J$21*$J$14,0) -> 1017 | Q23: =ROUND(Q19*$J$21*$J$14,0) -> 1017 | R23: =ROUND(R19*$J$21*$J$14,0) -> 1022 | S23: =ROUND(S19*$J$21*$J$14,0) -> 1013 | T23: =ROUND(T19*$J$21*$J$14,0) -> 1013 | ... W23: =ROUND(W19*$J$21*$J$14,0) -> 249
C26: Courses Run per Year (Fixed)
D28: Number of Courses Run per Year | H28: # | J28: =I2_Scenario_Inputs!K27 -> 1000 | M28: =$J28*M$6 -> 753.42466 | N28: =$J28*N$6 -> 1000 | O28: =$J28*O$6 -> 1000 | P28: =$J28*P$6 -> 1000 | Q28: =$J28*Q$6 -> 1000 | R28: =$J28*R$6 -> 1000 | S28: =$J28*S$6 -> 1000 | T28: =$J28*T$6 -> 1000 | ... W28: =$J28*W$6 -> 246.57534
C31: Courses Run per Year (Active)
D33: Course Calc Switch (1=Calculated, 0=Fixed) | H33: # | J33: =I2_Scenario_Inputs!K20 -> 1 | M33: =IF($J33=1,M23,M28) -> 768 | N33: =IF($J33=1,N23,N28) -> 1013 | O33: =IF($J33=1,O23,O28) -> 1017 | P33: =IF($J33=1,P23,P28) -> 1017 | Q33: =IF($J33=1,Q23,Q28) -> 1017 | R33: =IF($J33=1,R23,R28) -> 1022 | S33: =IF($J33=1,S23,S28) -> 1013 | T33: =IF($J33=1,T23,T28) -> 1013 | ... W33: =IF($J33=1,W23,W28) -> 249
C36: Course Revenue
D38: CPI Inflation Rate | H38: # | M38: ='C2_TimelineA'!M$28 -> 1 | N38: ='C2_TimelineA'!N$28 -> 1.02 | O38: ='C2_TimelineA'!O$28 -> 1.0404 | P38: ='C2_TimelineA'!P$28 -> 1.061208 | Q38: ='C2_TimelineA'!Q$28 -> 1.0824322 | R38: ='C2_TimelineA'!R$28 -> 1.1040808 | S38: ='C2_TimelineA'!S$28 -> 1.1261624 | T38: ='C2_TimelineA'!T$28 -> 1.1486857 | ... W38: ='C2_TimelineA'!W$28 -> 1.2189944
D40: Revenue per Course | H40: £'000s | J40: =I2_Scenario_Inputs!K31 -> 2.5 | M40: =$J40*M38 -> 2.5 | N40: =$J40*N38 -> 2.55 | O40: =$J40*O38 -> 2.601 | P40: =$J40*P38 -> 2.65302 | Q40: =$J40*Q38 -> 2.7060804 | R40: =$J40*R38 -> 2.760202 | S40: =$J40*S38 -> 2.815406 | T40: =$J40*T38 -> 2.8717142 | ... W40: =$J40*W38 -> 3.047486
D42: Number of Courses Run per Year | H42: # | M42: =M$33 -> 768 | N42: =N$33 -> 1013 | O42: =O$33 -> 1017 | P42: =P$33 -> 1017 | Q42: =Q$33 -> 1017 | R42: =R$33 -> 1022 | S42: =S$33 -> 1013 | T42: =T$33 -> 1013 | ... W42: =W$33 -> 249
B44: PL | D44: Total Course Revenue | H44: £'000s | M44: =M42*M40 -> 1920 | N44: =N42*N40 -> 2583.15 | O44: =O42*O40 -> 2645.217 | P44: =P42*P40 -> 2698.1213 | Q44: =Q42*Q40 -> 2752.0838 | R44: =R42*R40 -> 2820.9265 | S44: =S42*S40 -> 2852.0063 | T44: =T42*T40 -> 2909.0465 | ... W44: =W42*W40 -> 758.82403
C47: Merchandise Revenue
D49: CPI Inflation Rate | H49: # | M49: ='C2_TimelineA'!M$28 -> 1 | N49: ='C2_TimelineA'!N$28 -> 1.02 | O49: ='C2_TimelineA'!O$28 -> 1.0404 | P49: ='C2_TimelineA'!P$28 -> 1.061208 | Q49: ='C2_TimelineA'!Q$28 -> 1.0824322 | R49: ='C2_TimelineA'!R$28 -> 1.1040808 | S49: ='C2_TimelineA'!S$28 -> 1.1261624 | T49: ='C2_TimelineA'!T$28 -> 1.1486857 | ... W49: ='C2_TimelineA'!W$28 -> 1.2189944
B51: PL | D51: Merchandise per Year | H51: £'000s | J51: =I2_Scenario_Inputs!K36 -> 30 | M51: =$J51*M49*M$6 -> 22.60274 | N51: =$J51*N49*N$6 -> 30.6 | O51: =$J51*O49*O$6 -> 31.212 | P51: =$J51*P49*P$6 -> 31.83624 | Q51: =$J51*Q49*Q$6 -> 32.472965 | R51: =$J51*R49*R$6 -> 33.122424 | S51: =$J51*S49*S$6 -> 33.784873 | T51: =$J51*T49*T$6 -> 34.46057 | ... W51: =$J51*W49*W$6 -> 9.017219
C54: Staff Costs
D56: Employee Salaries Inflation Rate | H56: # | M56: ='C2_TimelineA'!M$27 -> 1 | N56: ='C2_TimelineA'!N$27 -> 1.03 | O56: ='C2_TimelineA'!O$27 -> 1.0609 | P56: ='C2_TimelineA'!P$27 -> 1.092727 | Q56: ='C2_TimelineA'!Q$27 -> 1.1255088 | R56: ='C2_TimelineA'!R$27 -> 1.1592741 | S56: ='C2_TimelineA'!S$27 -> 1.1940523 | T56: ='C2_TimelineA'!T$27 -> 1.2298739 | ... W56: ='C2_TimelineA'!W$27 -> 1.3439164
D58: Employee Wages & Taxes | H58: £'000s | J58: =0-I2_Scenario_Inputs!K14 -> -250 | M58: =$J58*M56*M$6 -> -188.35616 | N58: =$J58*N56*N$6 -> -257.5 | O58: =$J58*O56*O$6 -> -265.225 | P58: =$J58*P56*P$6 -> -273.18175 | Q58: =$J58*Q56*Q$6 -> -281.3772 | R58: =$J58*R56*R$6 -> -289.81852 | S58: =$J58*S56*S$6 -> -298.51307 | T58: =$J58*T56*T$6 -> -307.46847 | ... W58: =$J58*W56*W$6 -> -82.84416
D60: # of Employees | H60: # | J60: =I2_Scenario_Inputs!$K$13 -> 3
B62: PL | D62: Total Employee Wages & Salaries | H62: £'000s | M62: =$J60*M58 -> -565.06849 | N62: =$J60*N58 -> -772.5 | O62: =$J60*O58 -> -795.675 | P62: =$J60*P58 -> -819.54525 | Q62: =$J60*Q58 -> -844.13161 | R62: =$J60*R58 -> -869.45556 | S62: =$J60*S58 -> -895.53922 | T62: =$J60*T58 -> -922.4054 | ... W62: =$J60*W58 -> -248.53248
C65: Staff Expenses
D67: CPI Inflation Rate | H67: # | M67: ='C2_TimelineA'!M$28 -> 1 | N67: ='C2_TimelineA'!N$28 -> 1.02 | O67: ='C2_TimelineA'!O$28 -> 1.0404 | P67: ='C2_TimelineA'!P$28 -> 1.061208 | Q67: ='C2_TimelineA'!Q$28 -> 1.0824322 | R67: ='C2_TimelineA'!R$28 -> 1.1040808 | S67: ='C2_TimelineA'!S$28 -> 1.1261624 | T67: ='C2_TimelineA'!T$28 -> 1.1486857 | ... W67: ='C2_TimelineA'!W$28 -> 1.2189944
D69: Staff Expenses per Employee | H69: £'000s | J69: =0-I2_Scenario_Inputs!K16 -> -5 | M69: =$J69*M67*M$6 -> -3.7671233 | N69: =$J69*N67*N$6 -> -5.1 | O69: =$J69*O67*O$6 -> -5.202 | P69: =$J69*P67*P$6 -> -5.30604 | Q69: =$J69*Q67*Q$6 -> -5.4121608 | R69: =$J69*R67*R$6 -> -5.520404 | S69: =$J69*S67*S$6 -> -5.6308121 | T69: =$J69*T67*T$6 -> -5.7434283 | ... W69: =$J69*W67*W$6 -> -1.5028698
D71: # of Employees | H71: # | J71: =I2_Scenario_Inputs!$K$13 -> 3
B73: PL | D73: Total Staff Expenses | H73: £'000s | M73: =$J71*M69 -> -11.30137 | N73: =$J71*N69 -> -15.3 | O73: =$J71*O69 -> -15.606 | P73: =$J71*P69 -> -15.91812 | Q73: =$J71*Q69 -> -16.236482 | R73: =$J71*R69 -> -16.561212 | S73: =$J71*S69 -> -16.892436 | T73: =$J71*T69 -> -17.230285 | ... W73: =$J71*W69 -> -4.5086095
C76: Venue Costs
D78: CPI Inflation Rate | H78: # | M78: ='C2_TimelineA'!M$28 -> 1 | N78: ='C2_TimelineA'!N$28 -> 1.02 | O78: ='C2_TimelineA'!O$28 -> 1.0404 | P78: ='C2_TimelineA'!P$28 -> 1.061208 | Q78: ='C2_TimelineA'!Q$28 -> 1.0824322 | R78: ='C2_TimelineA'!R$28 -> 1.1040808 | S78: ='C2_TimelineA'!S$28 -> 1.1261624 | T78: ='C2_TimelineA'!T$28 -> 1.1486857 | ... W78: ='C2_TimelineA'!W$28 -> 1.2189944
...

Sheet Outputs >>

Sheet O1_Financial Statements
A2: =Model_Error -> 0 | B2: {=_xlfn.TEXTAFTER(CELL("filename",A1),"]")} -> O1_Financial Statements | M2: ='C2_TimelineA'!M2 -> 1 | N2: ='C2_TimelineA'!N2 -> 2 | O2: ='C2_TimelineA'!O2 -> 3 | P2: ='C2_TimelineA'!P2 -> 4 | Q2: ='C2_TimelineA'!Q2 -> 5 | R2: ='C2_TimelineA'!R2 -> 6 | S2: ='C2_TimelineA'!S2 -> 7 | T2: ='C2_TimelineA'!T2 -> 8 | ... W2: ='C2_TimelineA'!W2 -> 11
A3: =SUM(A4:A134) -> 0 | M3: ='C2_TimelineA'!M3 -> 2027 | N3: ='C2_TimelineA'!N3 -> 2028 | O3: ='C2_TimelineA'!O3 -> 2029 | P3: ='C2_TimelineA'!P3 -> 2030 | Q3: ='C2_TimelineA'!Q3 -> 2031 | R3: ='C2_TimelineA'!R3 -> 2032 | S3: ='C2_TimelineA'!S3 -> 2033 | T3: ='C2_TimelineA'!T3 -> 2034 | ... W3: ='C2_TimelineA'!W3 -> 2037
M4: ='C2_TimelineA'!M4 -> 46478 | N4: ='C2_TimelineA'!N4 -> 46753 | O4: ='C2_TimelineA'!O4 -> 47119 | P4: ='C2_TimelineA'!P4 -> 47484 | Q4: ='C2_TimelineA'!Q4 -> 47849 | R4: ='C2_TimelineA'!R4 -> 48214 | S4: ='C2_TimelineA'!S4 -> 48580 | T4: ='C2_TimelineA'!T4 -> 48945 | ... W4: ='C2_TimelineA'!W4 -> 50041
M5: ='C2_TimelineA'!M5 -> 46752 | N5: ='C2_TimelineA'!N5 -> 47118 | O5: ='C2_TimelineA'!O5 -> 47483 | P5: ='C2_TimelineA'!P5 -> 47848 | Q5: ='C2_TimelineA'!Q5 -> 48213 | R5: ='C2_TimelineA'!R5 -> 48579 | S5: ='C2_TimelineA'!S5 -> 48944 | T5: ='C2_TimelineA'!T5 -> 49309 | ... W5: ='C2_TimelineA'!W5 -> 50130
J6: Total | M6: ='C2_TimelineA'!M6 -> 0.75342466 | N6: ='C2_TimelineA'!N6 -> 1 | O6: ='C2_TimelineA'!O6 -> 1 | P6: ='C2_TimelineA'!P6 -> 1 | Q6: ='C2_TimelineA'!Q6 -> 1 | R6: ='C2_TimelineA'!R6 -> 1 | S6: ='C2_TimelineA'!S6 -> 1 | T6: ='C2_TimelineA'!T6 -> 1 | ... W6: ='C2_TimelineA'!W6 -> 0.24657534
H8: Units
C9: P&L
D11: Revenue
E13: Course Fees | H13: £'000s | J13: =SUM(M13:X13) -> 27971.781 | M13: ='C4_CalcsA'!M44 -> 1920 | N13: ='C4_CalcsA'!N44 -> 2583.15 | O13: ='C4_CalcsA'!O44 -> 2645.217 | P13: ='C4_CalcsA'!P44 -> 2698.1213 | Q13: ='C4_CalcsA'!Q44 -> 2752.0838 | R13: ='C4_CalcsA'!R44 -> 2820.9265 | S13: ='C4_CalcsA'!S44 -> 2852.0063 | T13: ='C4_CalcsA'!T44 -> 2909.0465 | ... W13: ='C4_CalcsA'!W44 -> 758.82403
E14: Merchandise | H14: £'000s | J14: =SUM(M14:X14) -> 330.11159 | M14: ='C4_CalcsA'!M51 -> 22.60274 | N14: ='C4_CalcsA'!N51 -> 30.6 | O14: ='C4_CalcsA'!O51 -> 31.212 | P14: ='C4_CalcsA'!P51 -> 31.83624 | Q14: ='C4_CalcsA'!Q51 -> 32.472965 | R14: ='C4_CalcsA'!R51 -> 33.122424 | S14: ='C4_CalcsA'!S51 -> 33.784873 | T14: ='C4_CalcsA'!T51 -> 34.46057 | ... W14: ='C4_CalcsA'!W51 -> 9.017219
D16: ="Total "&D11 -> Total Revenue | H16: £'000s | J16: =SUM(J13:J15) -> 28301.892 | M16: =SUM(M13:M15) -> 1942.6027 | N16: =SUM(N13:N15) -> 2613.75 | O16: =SUM(O13:O15) -> 2676.429 | P16: =SUM(P13:P15) -> 2729.9576 | Q16: =SUM(Q13:Q15) -> 2784.5567 | R16: =SUM(R13:R15) -> 2854.0489 | S16: =SUM(S13:S15) -> 2885.7912 | T16: =SUM(T13:T15) -> 2943.507 | ... W16: =SUM(W13:W15) -> 767.84125
D18: Costs
E20: Staff Costs | H20: £'000s | J20: =SUM(M20:X20) -> -8661.5105 | M20: ='C4_CalcsA'!M62 -> -565.06849 | N20: ='C4_CalcsA'!N62 -> -772.5 | O20: ='C4_CalcsA'!O62 -> -795.675 | P20: ='C4_CalcsA'!P62 -> -819.54525 | Q20: ='C4_CalcsA'!Q62 -> -844.13161 | R20: ='C4_CalcsA'!R62 -> -869.45556 | S20: ='C4_CalcsA'!S62 -> -895.53922 | T20: ='C4_CalcsA'!T62 -> -922.4054 | ... W20: ='C4_CalcsA'!W62 -> -248.53248
E21: Staff Expenses | H21: £'000s | J21: =SUM(M21:X21) -> -165.05579 | M21: ='C4_CalcsA'!M73 -> -11.30137 | N21: ='C4_CalcsA'!N73 -> -15.3 | O21: ='C4_CalcsA'!O73 -> -15.606 | P21: ='C4_CalcsA'!P73 -> -15.91812 | Q21: ='C4_CalcsA'!Q73 -> -16.236482 | R21: ='C4_CalcsA'!R73 -> -16.561212 | S21: ='C4_CalcsA'!S73 -> -16.892436 | T21: ='C4_CalcsA'!T73 -> -17.230285 | ... W21: ='C4_CalcsA'!W73 -> -4.5086095
E22: Venue Costs | H22: £'000s | J22: =SUM(M22:X22) -> -11188.712 | M22: ='C4_CalcsA'!M84 -> -768 | N22: ='C4_CalcsA'!N84 -> -1033.26 | O22: ='C4_CalcsA'!O84 -> -1058.0868 | P22: ='C4_CalcsA'!P84 -> -1079.2485 | Q22: ='C4_CalcsA'!Q84 -> -1100.8335 | R22: ='C4_CalcsA'!R84 -> -1128.3706 | S22: ='C4_CalcsA'!S84 -> -1140.8025 | T22: ='C4_CalcsA'!T84 -> -1163.6186 | ... W22: ='C4_CalcsA'!W84 -> -303.52961
E23: Marketing Costs | H23: £'000s | J23: =SUM(M23:X23) -> -550.18598 | M23: ='C4_CalcsA'!M91 -> -37.671233 | N23: ='C4_CalcsA'!N91 -> -51 | O23: ='C4_CalcsA'!O91 -> -52.02 | P23: ='C4_CalcsA'!P91 -> -53.0604 | Q23: ='C4_CalcsA'!Q91 -> -54.121608 | R23: ='C4_CalcsA'!R91 -> -55.20404 | S23: ='C4_CalcsA'!S91 -> -56.308121 | T23: ='C4_CalcsA'!T91 -> -57.434283 | ... W23: ='C4_CalcsA'!W91 -> -15.028698
D25: ="Total "&D18 -> Total Costs | H25: £'000s | J25: =SUM(J20:J24) -> -20565.465 | M25: =SUM(M20:M24) -> -1382.0411 | N25: =SUM(N20:N24) -> -1872.06 | O25: =SUM(O20:O24) -> -1921.3878 | P25: =SUM(P20:P24) -> -1967.7723 | Q25: =SUM(Q20:Q24) -> -2015.3232 | R25: =SUM(R20:R24) -> -2069.5914 | S25: =SUM(S20:S24) -> -2109.5423 | T25: =SUM(T20:T24) -> -2160.6885 | ... W25: =SUM(W20:W24) -> -571.5994
D27: EBITDA | H27: £'000s | J27: =SUM(J16,J25) -> 7736.4279 | M27: =SUM(M16,M25) -> 560.56164 | N27: =SUM(N16,N25) -> 741.69 | O27: =SUM(O16,O25) -> 755.0412 | P27: =SUM(P16,P25) -> 762.18527 | Q27: =SUM(Q16,Q25) -> 769.23353 | R27: =SUM(R16,R25) -> 784.45749 | S27: =SUM(S16,S25) -> 776.24889 | T27: =SUM(T16,T25) -> 782.81847 | ... W27: =SUM(W16,W25) -> 196.24185
D28: EBITDA % | H28: % | J28: =J27/J$16 -> 0.27335373 | M28: =M27/M$16 -> 0.28856216 | N28: =N27/N$16 -> 0.28376471 | O28: =O27/O$16 -> 0.28210769 | P28: =P27/P$16 -> 0.27919308 | Q28: =Q27/Q$16 -> 0.2762499 | R28: =R27/R$16 -> 0.27485776 | S28: =S27/S$16 -> 0.26898997 | T28: =T27/T$16 -> 0.26594755 | ... W28: =W27/W$16 -> 0.25557607
E30: Depreciation - Venue Building | H30: £'000s | J30: =SUM(M30:X30) -> -500 | M30: ='C4_CalcsA'!M99 -> -37.5 | N30: ='C4_CalcsA'!N99 -> -50 | O30: ='C4_CalcsA'!O99 -> -50 | P30: ='C4_CalcsA'!P99 -> -50 | Q30: ='C4_CalcsA'!Q99 -> -50 | R30: ='C4_CalcsA'!R99 -> -50 | S30: ='C4_CalcsA'!S99 -> -50 | T30: ='C4_CalcsA'!T99 -> -50 | ... W30: ='C4_CalcsA'!W99 -> -12.5
E31: Depreciation - Laptops | H31: £'000s | J31: =SUM(M31:X31) -> -107.57204 | M31: ='C4_CalcsA'!M112 -> -7.5 | N31: ='C4_CalcsA'!N112 -> -10 | O31: ='C4_CalcsA'!O112 -> -10 | P31: ='C4_CalcsA'!P112 -> -10.45906 | Q31: ='C4_CalcsA'!Q112 -> -10.61208 | R31: ='C4_CalcsA'!R112 -> -10.61208 | S31: ='C4_CalcsA'!S112 -> -11.099238 | T31: ='C4_CalcsA'!T112 -> -11.261624 | ... W31: ='C4_CalcsA'!W112 -> -2.9877314
D33: EBIT | H33: £'000s | J33: =SUM(J27,J30:J32) -> 7128.8558 | M33: =SUM(M27,M30:M32) -> 515.56164 | N33: =SUM(N27,N30:N32) -> 681.69 | O33: =SUM(O27,O30:O32) -> 695.0412 | P33: =SUM(P27,P30:P32) -> 701.72621 | Q33: =SUM(Q27,Q30:Q32) -> 708.62145 | R33: =SUM(R27,R30:R32) -> 723.84541 | S33: =SUM(S27,S30:S32) -> 715.14965 | T33: =SUM(T27,T30:T32) -> 721.55685 | ... W33: =SUM(W27,W30:W32) -> 180.75411
D34: EBIT % | H34: % | J34: =J33/J$16 -> 0.25188619 | M34: =M33/M$16 -> 0.26539736 | N34: =N33/N$16 -> 0.26080918 | O34: =O33/O$16 -> 0.25968976 | P34: =P33/P$16 -> 0.25704656 | Q34: =Q33/Q$16 -> 0.25448268 | R34: =R33/R$16 -> 0.25362054 | S34: =S33/S$16 -> 0.24781753 | T34: =T33/T$16 -> 0.24513509 | ... W34: =W33/W$16 -> 0.23540558
E36: Interest Receivable on Cash | H36: £'000s | J36: =SUM(M36:X36) -> 0
E37: Interest Payable on Loan | H37: £'000s | J37: =SUM(M37:X37) -> 0
D39: Profit/(loss) before tax | H39: £'000s | J39: =SUM(J33,J36:J38) -> 7128.8558 | M39: =SUM(M33,M36:M38) -> 515.56164 | N39: =SUM(N33,N36:N38) -> 681.69 | O39: =SUM(O33,O36:O38) -> 695.0412 | P39: =SUM(P33,P36:P38) -> 701.72621 | Q39: =SUM(Q33,Q36:Q38) -> 708.62145 | R39: =SUM(R33,R36:R38) -> 723.84541 | S39: =SUM(S33,S36:S38) -> 715.14965 | T39: =SUM(T33,T36:T38) -> 721.55685 | ... W39: =SUM(W33,W36:W38) -> 180.75411
E41: Tax | H41: £'000s | J41: =SUM(M41:X41) -> 0
D43: Profit/(loss) after tax | H43: £'000s | J43: =SUM(J39:J42) -> 7128.8558 | M43: =SUM(M39:M42) -> 515.56164 | N43: =SUM(N39:N42) -> 681.69 | O43: =SUM(O39:O42) -> 695.0412 | P43: =SUM(P39:P42) -> 701.72621 | Q43: =SUM(Q39:Q42) -> 708.62145 | R43: =SUM(R39:R42) -> 723.84541 | S43: =SUM(S39:S42) -> 715.14965 | T43: =SUM(T39:T42) -> 721.55685 | ... W43: =SUM(W39:W42) -> 180.75411
E45: Dividends | H45: £'000s | J45: =SUM(M45:X45) -> 0
D47: Profit/(loss) retained | H47: £'000s | J47: =SUM(J43:J46) -> 7128.8558 | M47: =SUM(M43:M46) -> 515.56164 | N47: =SUM(N43:N46) -> 681.69 | O47: =SUM(O43:O46) -> 695.0412 | P47: =SUM(P43:P46) -> 701.72621 | Q47: =SUM(Q43:Q46) -> 708.62145 | R47: =SUM(R43:R46) -> 723.84541 | S47: =SUM(S43:S46) -> 715.14965 | T47: =SUM(T43:T46) -> 721.55685 | ... W47: =SUM(W43:W46) -> 180.75411
E49: Total P&L from Calculation Sheet | H49: £'000s | M49: =SUMIFS('C4_CalcsA'!M$9:M$120,'C4_CalcsA'!$B$9:$B$120,rPL) -> 515.56164 | N49: =SUMIFS('C4_CalcsA'!N$9:N$120,'C4_CalcsA'!$B$9:$B$120,rPL) -> 681.69 | O49: =SUMIFS('C4_CalcsA'!O$9:O$120,'C4_CalcsA'!$B$9:$B$120,rPL) -> 695.0412 | P49: =SUMIFS('C4_CalcsA'!P$9:P$120,'C4_CalcsA'!$B$9:$B$120,rPL) -> 701.72621 | Q49: =SUMIFS('C4_CalcsA'!Q$9:Q$120,'C4_CalcsA'!$B$9:$B$120,rPL) -> 708.62145 | R49: =SUMIFS('C4_CalcsA'!R$9:R$120,'C4_CalcsA'!$B$9:$B$120,rPL) -> 723.84541 | S49: =SUMIFS('C4_CalcsA'!S$9:S$120,'C4_CalcsA'!$B$9:$B$120,rPL) -> 715.14965 | T49: =SUMIFS('C4_CalcsA'!T$9:T$120,'C4_CalcsA'!$B$9:$B$120,rPL) -> 721.55685 | ... W49: =SUMIFS('C4_CalcsA'!W$9:W$120,'C4_CalcsA'!$B$9:$B$120,rPL) -> 180.75411
A50: =SUM(M50:X50) -> 0 | E50: Check Total | H50: Check | M50: =IFERROR((ABS(M49-M47)>rTolerance)*1,1) -> 0 | N50: =IFERROR((ABS(N49-N47)>rTolerance)*1,1) -> 0 | O50: =IFERROR((ABS(O49-O47)>rTolerance)*1,1) -> 0 | P50: =IFERROR((ABS(P49-P47)>rTolerance)*1,1) -> 0 | Q50: =IFERROR((ABS(Q49-Q47)>rTolerance)*1,1) -> 0 | R50: =IFERROR((ABS(R49-R47)>rTolerance)*1,1) -> 0 | S50: =IFERROR((ABS(S49-S47)>rTolerance)*1,1) -> 0 | T50: =IFERROR((ABS(T49-T47)>rTolerance)*1,1) -> 0 | ... W50: =IFERROR((ABS(W49-W47)>rTolerance)*1,1) -> 0
C53: Balance Sheet
D55: Assets
E57: Venue Building | H57: £'000s | M57: ='C4_CalcsA'!M101 -> 462.5 | N57: ='C4_CalcsA'!N101 -> 412.5 | O57: ='C4_CalcsA'!O101 -> 362.5 | P57: ='C4_CalcsA'!P101 -> 312.5 | Q57: ='C4_CalcsA'!Q101 -> 262.5 | R57: ='C4_CalcsA'!R101 -> 212.5 | S57: ='C4_CalcsA'!S101 -> 162.5 | T57: ='C4_CalcsA'!T101 -> 112.5 | ... W57: ='C4_CalcsA'!W101 -> 1.4210855e-14
E58: Laptops | H58: £'000s | M58: ='C4_CalcsA'!M114 -> 22.5 | N58: ='C4_CalcsA'!N114 -> 12.5 | O58: ='C4_CalcsA'!O114 -> 2.5 | P58: ='C4_CalcsA'!P114 -> 23.87718 | Q58: ='C4_CalcsA'!Q114 -> 13.2651 | R58: ='C4_CalcsA'!R114 -> 2.65302 | S58: ='C4_CalcsA'!S114 -> 25.338654 | T58: ='C4_CalcsA'!T114 -> 14.07703 | ... W58: ='C4_CalcsA'!W114 -> 23.901851
D60: Fixed Assets | H60: £'000s | M60: =SUM(M57:M59) -> 485 | N60: =SUM(N57:N59) -> 425 | O60: =SUM(O57:O59) -> 365 | P60: =SUM(P57:P59) -> 336.37718 | Q60: =SUM(Q57:Q59) -> 275.7651 | R60: =SUM(R57:R59) -> 215.15302 | S60: =SUM(S57:S59) -> 187.83865 | T60: =SUM(T57:T59) -> 126.57703 | ... W60: =SUM(W57:W59) -> 23.901851
E62: Trade Debtors | H62: £'000s
E63: Cash | H63: £'000s | M63: =M131 -> 30.561644 | N63: =N131 -> 772.25164 | O63: =O131 -> 1527.2928 | P63: =P131 -> 2257.6419 | Q63: =Q131 -> 3026.8754 | R63: =R131 -> 3811.3329 | S63: =S131 -> 4553.7969 | T63: =T131 -> 5336.6154 | ... W63: =W131 -> 7104.954
D65: Current Assets | H65: £'000s | M65: =SUM(M62:M64) -> 30.561644 | N65: =SUM(N62:N64) -> 772.25164 | O65: =SUM(O62:O64) -> 1527.2928 | P65: =SUM(P62:P64) -> 2257.6419 | Q65: =SUM(Q62:Q64) -> 3026.8754 | R65: =SUM(R62:R64) -> 3811.3329 | S65: =SUM(S62:S64) -> 4553.7969 | T65: =SUM(T62:T64) -> 5336.6154 | ... W65: =SUM(W62:W64) -> 7104.954
...
